BEGIN:VCALENDAR
VERSION:2.0
PRODID:-//Library Market//iCal Export//EN
BEGIN:VEVENT
SUMMARY:Family Concert: Alina Celeste and Mi Amigo Hamlet
UID:108436
DTSTAMP:20260423T213600Z
DTSTART:20260729T203000Z
DTEND:20260729T211500Z
LOCATION:411 S. Main Street, Lombard, IL 60148, United States
ROOM: Plum Meeting Rooms (Combined)
DESCRIPTION:This musical celebration with Alina Celeste and Mi Amigo Hamle
 t will feature original and traditional songs from Latin America in both E
 nglish and Spanish. Experience a joyful blend of cultures, sound, and lang
 uage for all ages.Esta celebracion musical con Alina Celeste y Mi Amigo Ha
 mlet presentara canciones tradicionales de Latino America tanto en ingles 
 y español. Disfruta de una mezcla alegre de culturas, sonidos y lenguaje 
 para todas las edades.
URL:https://www.helenplum.org/event/alina-celeste-mi-amigo-hamlet-1
END:VEVENT
END:VCALENDAR
