BEGIN:VCALENDAR
VERSION:2.0
PRODID:-//Library Market//iCal Export//EN
BEGIN:VEVENT
SUMMARY:Firefly Family Theatre: Under the Stars
UID:108437
DTSTAMP:20260421T092300Z
DTSTART:20260807T153000Z
DTEND:20260807T161500Z
LOCATION:411 S. Main Street, Lombard, IL 60148, United States
ROOM: Plum Meeting Rooms (Combined)
DESCRIPTION:Registered event for families with children of all ages; Helen
  Plum Library card required. Visit Spark the Firefly and her original pup
 pet friends for a summer night in Firefly Grove. All ages will gather arou
 nd the campfire to sing songs, listen to stories, and watch the stars.
URL:https://www.helenplum.org/event/firefly-family-theatre-108437
END:VEVENT
END:VCALENDAR
