BEGIN:VCALENDAR
VERSION:2.0
PRODID:-//Library Market//iCal Export//EN
BEGIN:VEVENT
SUMMARY:College of DuPage Theater Presents: Sherwood’s Merry Mateys
UID:108438
DTSTAMP:20260419T131700Z
DTSTART:20260701T190000Z
DTEND:20260701T200000Z
LOCATION:411 S. Main Street, Lombard, IL 60148, United States
ROOM: Plum Meeting Rooms (Combined)
DESCRIPTION:Registered event for families with children of all ages; Helen
  Plum Library card required. Join Robin and his crew as they sail to find
  a greedy sea captain who has hoarded all the treasure. With imagination a
 nd plenty of high-seas fun, the Mateys will have audiences cheering as the
 y discover the power of friendship, fairness, and believing in yourself.
URL:https://www.helenplum.org/event/college-of-dupage-108438
END:VEVENT
END:VCALENDAR
