BEGIN:VCALENDAR
VERSION:2.0
PRODID:-//Library Market//iCal Export//EN
BEGIN:VEVENT
SUMMARY:Cuentos en Español / Spanish Storytime
UID:109908
DTSTAMP:20260421T105900Z
DTSTART:20260829T150000Z
DTEND:20260829T154500Z
LOCATION:411 S. Main Street, Lombard, IL 60148, United States
ROOM: Youth Large Program Room (Combined)
DESCRIPTION:Hora de cuentos sin inscripción previa recomendada para famil
 ias con niños de 0 a 8 años.Familias que están aprendiendo español o i
 nglés disfrutarán de historias, canciones y una manualidad rápida para 
 niños. Las historias compartidas estarán principalmente en español con 
 algún texto en inglés.Drop-in storytime recommended for families with ch
 ildren ages birth-8. Families learning either English or Spanish will enj
 oy songs and a quick craft. Stories shared will mostly be in Spanish with 
 some English text.   
URL:https://www.helenplum.org/event/spanish-storytimecuentos-en-espanol-10
 9908
END:VEVENT
END:VCALENDAR
