BEGIN:VCALENDAR
VERSION:2.0
PRODID:-//Library Market//iCal Export//EN
BEGIN:VEVENT
SUMMARY:Registration Opens for June HPL Programs
UID:110419
DTSTAMP:20260421T092300Z
DTSTART:20260509T050000Z
DTEND:20260509T050000Z
LOCATION:411 South Main Street, Lombard, IL 60148, United States
ROOM: Registration Opens for June HPL Programs
DESCRIPTION:Registration for June programs opens at 9am on Sat, May 9.**So
 me program registration dates may differ. Technology classes open one mont
 h before each class. Be sure to check individual event listings for regist
 ration details.
URL:https://www.helenplum.org/event/registration-opens-june-hpl-programs-1
 10419
END:VEVENT
END:VCALENDAR
