BEGIN:VCALENDAR
VERSION:2.0
PRODID:-//Library Market//iCal Export//EN
BEGIN:VEVENT
SUMMARY:Genealogy Club
UID:90856
DTSTAMP:20260421T091200Z
DTSTART:20260728T000000Z
DTEND:20260728T010000Z
LOCATION:411 S. Main Street, Lombard, IL 60148, United States
ROOM: Conference Room
DESCRIPTION:Join us for a roundtable discussion to share your research fin
 dings, hear success stories from other members, and seek solutions to br
 ick walls. 
URL:https://www.helenplum.org/event/genealogy-club-90856
END:VEVENT
END:VCALENDAR
